BEGIN:VCALENDAR
VERSION:2.0
CALSCALE:GREGORIAN
PRODID:UW-Madison-Physics-Events
BEGIN:VEVENT
SEQUENCE:0
UID:UW-Physics-Event-1003
DTSTART:20080125T203000Z
DURATION:PT1H0M0S
DTSTAMP:20260423T072228Z
LAST-MODIFIED:19700101T060000Z
LOCATION:5280 Chamberlin Hall
SUMMARY:Very Energetic Top Quarks and the Search for New Physics at th
 e LHC\, Phenomenology Seminar\, Ulrich Baur\, SUNY at Buffalo
DESCRIPTION:
URL:https://www.physics.wisc.edu/events/?id=1003
END:VEVENT
END:VCALENDAR
