BEGIN:VCALENDAR
VERSION:2.0
CALSCALE:GREGORIAN
PRODID:UW-Madison-Physics-Events
BEGIN:VEVENT
SEQUENCE:0
UID:UW-Physics-Event-1005
DTSTART:20080128T180500Z
DURATION:PT1H0M0S
DTSTAMP:20260423T050015Z
LAST-MODIFIED:19700101T060000Z
LOCATION:2241 Chamberlin Hall
SUMMARY:Modern Magnetic Mirrors in Novosibirsk: New results and Their 
 Implications for the Future\, Plasma Physics (Physics/ECE/NE 922) Semi
 nar\, Alexander Ivanov\, Budker Institute\, Noisibirsk\, Russia
DESCRIPTION:
URL:https://www.physics.wisc.edu/events/?id=1005
END:VEVENT
END:VCALENDAR
