BEGIN:VCALENDAR
VERSION:2.0
CALSCALE:GREGORIAN
PRODID:UW-Madison-Physics-Events
BEGIN:VEVENT
SEQUENCE:0
UID:UW-Physics-Event-1010
DTSTART:20080131T160000Z
DURATION:PT1H0M0S
DTSTAMP:20260423T072226Z
LAST-MODIFIED:19700101T060000Z
LOCATION:5310 Chamberlin Hall
SUMMARY:Physics at the University of Nebraska-Lincoln\, R. G. Herb Con
 densed Matter Seminar\, Evgeny Tsymbal\, Physics\, University of Nebra
 ska-Lincoln
DESCRIPTION:
URL:https://www.physics.wisc.edu/events/?id=1010
END:VEVENT
END:VCALENDAR
