BEGIN:VCALENDAR
VERSION:2.0
CALSCALE:GREGORIAN
PRODID:UW-Madison-Physics-Events
BEGIN:VEVENT
SEQUENCE:0
UID:UW-Physics-Event-1016
DTSTART:20080207T160000Z
DURATION:PT1H0M0S
DTSTAMP:20260423T055123Z
LAST-MODIFIED:19700101T060000Z
LOCATION:5310 Chamberlin Hall
SUMMARY:Physics at the University of Colorado\, R. G. Herb Condensed M
 atter Seminar\, Kyle McElroy\, Physics\, University of Colorado
DESCRIPTION:
URL:https://www.physics.wisc.edu/events/?id=1016
END:VEVENT
END:VCALENDAR
