BEGIN:VCALENDAR
VERSION:2.0
CALSCALE:GREGORIAN
PRODID:UW-Madison-Physics-Events
BEGIN:VEVENT
SEQUENCE:0
UID:UW-Physics-Event-1017
DTSTART:20080208T220000Z
DURATION:PT1H0M0S
DTSTAMP:20260423T055122Z
LAST-MODIFIED:19700101T060000Z
LOCATION:2241 Chamberlin Hall (coffee at 3:30 pm)
SUMMARY:Bringing Hearing to the Deaf\, Physics Department Colloquium\,
  Ian Shipsey\, Purdue University
DESCRIPTION:Cochlear implants are the first device to successfully res
 tore neural function. They have instigated a popular but controversial
  revolution in the treatment of deafness\, and they serve as a model f
 or research in neuroscience and biomedical engineering. In this talk t
 he physiology of natural hearing will be reviewed from the perspective
  of a physicist\, and the function of cochlear implants will be descri
 bed in the context of historical treatments\, electrical engineering\,
  psychophysics\, clinical evaluation of efficacy and personal experien
 ce. The social implications of cochlear implantation and the future ou
 tlook for auditory prostheses will also be discussed.
URL:https://www.physics.wisc.edu/events/?id=1017
END:VEVENT
END:VCALENDAR
