BEGIN:VCALENDAR
VERSION:2.0
CALSCALE:GREGORIAN
PRODID:UW-Madison-Physics-Events
BEGIN:VEVENT
SEQUENCE:0
UID:UW-Physics-Event-1020
DTSTART:20080211T220000Z
DURATION:PT1H0M0S
DTSTAMP:20260423T055202Z
LAST-MODIFIED:19700101T060000Z
LOCATION:265 MSE
SUMMARY:Structure\, Processing\, Properties\, and Applications of Carb
 on-based Organic Semiconductors and Carbon Nanotubes\, Materials Scien
 ce & Engineering Seminar\, Michael S. Arnold\, Post-doctoral research 
 fellow University of Michigan\, Ann Arbor
DESCRIPTION:
URL:https://www.physics.wisc.edu/events/?id=1020
END:VEVENT
END:VCALENDAR
