BEGIN:VCALENDAR
VERSION:2.0
CALSCALE:GREGORIAN
PRODID:UW-Madison-Physics-Events
BEGIN:VEVENT
SEQUENCE:0
UID:UW-Physics-Event-1023
DTSTART:20080212T203000Z
DURATION:PT1H0M0S
DTSTAMP:20260423T055203Z
LAST-MODIFIED:19700101T060000Z
LOCATION:4274 Chamberlin Hall (coffee at 3:30 pm)
SUMMARY:Ion Pickup and Acceleration in Magnetic Reconnection Exhausts\
 , Plasma Seminar--Special Day\, Jim Drake\, University of Maryland
DESCRIPTION:
URL:https://www.physics.wisc.edu/events/?id=1023
END:VEVENT
END:VCALENDAR
