BEGIN:VCALENDAR
VERSION:2.0
CALSCALE:GREGORIAN
PRODID:UW-Madison-Physics-Events
BEGIN:VEVENT
SEQUENCE:0
UID:UW-Physics-Event-1027
DTSTART:20080214T220000Z
DURATION:PT1H0M0S
DTSTAMP:20260423T055124Z
LAST-MODIFIED:20080313T141745Z
LOCATION:2241 Chamberlin Hall (coffee at 3:30 pm)
SUMMARY:How Does A Thing Like That Work?\, Physics Department Colloqui
 um\, David Willey\, University of Pittsburgh at Johnstown
DESCRIPTION:'HDATLTW'\, is an entertaining\, interactive physics demon
 stration lecture consisting of the more visual and dramatic demonstrat
 ions from an introductory physics course. The show usually lasts close
  to microcentury and about 25 demonstrations are performed. It is fast
  paced and is meant to promote interest in science and further discuss
 ion\, with only a simple explanation of the physics involved being giv
 en as each demonstration is presented.
URL:https://www.physics.wisc.edu/events/?id=1027
END:VEVENT
END:VCALENDAR
