BEGIN:VCALENDAR
VERSION:2.0
CALSCALE:GREGORIAN
PRODID:UW-Madison-Physics-Events
BEGIN:VEVENT
SEQUENCE:0
UID:UW-Physics-Event-1029
DTSTART:20080215T220000Z
DURATION:PT1H0M0S
DTSTAMP:20260423T055204Z
LAST-MODIFIED:19700101T060000Z
LOCATION:B239 Van Vleck
SUMMARY:Geometry of boundary shear turbulence: a stroll through 61\,50
 6 dimensions\, Math Colloquium\, Predrag Cvitanovic\, Center for Nonli
 near Sciences\, Georgia Tech
DESCRIPTION:
URL:https://www.physics.wisc.edu/events/?id=1029
END:VEVENT
END:VCALENDAR
