BEGIN:VCALENDAR
VERSION:2.0
CALSCALE:GREGORIAN
PRODID:UW-Madison-Physics-Events
BEGIN:VEVENT
SEQUENCE:0
UID:UW-Physics-Event-1038
DTSTART:20080222T203000Z
DURATION:PT1H0M0S
DTSTAMP:20260423T055202Z
LAST-MODIFIED:19700101T060000Z
LOCATION:5280 Chamberlin Hall
SUMMARY:Matching NLO Calculations with Parton Shower: the POsitive-Wei
 ght Hardest Emission Generator\, Phenomenology Seminar\, Carlo Oleari\
 , Univ. di Milano-Bicocca
DESCRIPTION:
URL:https://www.physics.wisc.edu/events/?id=1038
END:VEVENT
END:VCALENDAR
