BEGIN:VCALENDAR
VERSION:2.0
CALSCALE:GREGORIAN
PRODID:UW-Madison-Physics-Events
BEGIN:VEVENT
SEQUENCE:0
UID:UW-Physics-Event-1040
DTSTART:20080225T180500Z
DURATION:PT1H0M0S
DTSTAMP:20260423T050036Z
LAST-MODIFIED:19700101T060000Z
LOCATION:2241 Chamberlin Hall
SUMMARY:Magnetic Fields in HIgh Intensity-Laser Produced Plasmas\, Pla
 sma Physics (Physics/ECE/NE 922) Seminar\, Karl Krushelnick\, Universi
 ty of Michigan
DESCRIPTION:
URL:https://www.physics.wisc.edu/events/?id=1040
END:VEVENT
END:VCALENDAR
