BEGIN:VCALENDAR
VERSION:2.0
CALSCALE:GREGORIAN
PRODID:UW-Madison-Physics-Events
BEGIN:VEVENT
SEQUENCE:0
UID:UW-Physics-Event-1046
DTSTART:20080228T220000Z
DURATION:PT1H0M0S
DTSTAMP:20260423T055205Z
LAST-MODIFIED:19700101T060000Z
LOCATION:5280 Chamberlin Hall
SUMMARY:Testing Gyrokinetic Turbulence Simulations\, Special Plasma Ph
 ysics Seminar\, Dr. Robert Budny\, Princeton Plasma Physics Laboratory
DESCRIPTION:
URL:https://www.physics.wisc.edu/events/?id=1046
END:VEVENT
END:VCALENDAR
