BEGIN:VCALENDAR
VERSION:2.0
CALSCALE:GREGORIAN
PRODID:UW-Madison-Physics-Events
BEGIN:VEVENT
SEQUENCE:0
UID:UW-Physics-Event-1047
DTSTART:20080228T203000Z
DURATION:PT1H0M0S
DTSTAMP:20260423T055205Z
LAST-MODIFIED:19700101T060000Z
LOCATION:5280 Chamberlin Hall
SUMMARY:TBA\, String Theory Seminar\, Yu Nakayama\, Berkeley
DESCRIPTION:
URL:https://www.physics.wisc.edu/events/?id=1047
END:VEVENT
END:VCALENDAR
