BEGIN:VCALENDAR
VERSION:2.0
CALSCALE:GREGORIAN
PRODID:UW-Madison-Physics-Events
BEGIN:VEVENT
SEQUENCE:0
UID:UW-Physics-Event-1050
DTSTART:20080303T180500Z
DURATION:PT1H0M0S
DTSTAMP:20260423T041114Z
LAST-MODIFIED:19700101T060000Z
LOCATION:2241 Chamberlin Hall
SUMMARY:Anomalous Diffusion in Satellite Data and Tokamaks\, Plasma Ph
 ysics (Physics/ECE/NE 922) Seminar\, George Rowlands\, University of W
 arwick\, United Kingdom
DESCRIPTION:
URL:https://www.physics.wisc.edu/events/?id=1050
END:VEVENT
END:VCALENDAR
