BEGIN:VCALENDAR
VERSION:2.0
CALSCALE:GREGORIAN
PRODID:UW-Madison-Physics-Events
BEGIN:VEVENT
SEQUENCE:0
UID:UW-Physics-Event-1056
DTSTART:20080304T214500Z
DURATION:PT1H0M0S
DTSTAMP:20260423T041120Z
LAST-MODIFIED:19700101T060000Z
LOCATION:6515 Sterling Hall (coffee at 3:30 pm)
SUMMARY:Gone with the Wind: Galactic Outflows driven by Stars and Quas
 ars and their Impact on Galaxy Evolution\, Astronomy Colloquium\, Chri
 sty Tremonti\, University of AZ- Steward Observatory
DESCRIPTION:
URL:https://www.physics.wisc.edu/events/?id=1056
END:VEVENT
END:VCALENDAR
