BEGIN:VCALENDAR
VERSION:2.0
CALSCALE:GREGORIAN
PRODID:UW-Madison-Physics-Events
BEGIN:VEVENT
SEQUENCE:0
UID:UW-Physics-Event-1057
DTSTART:20080305T214500Z
DURATION:PT1H0M0S
DTSTAMP:20260423T041232Z
LAST-MODIFIED:20080304T183958Z
LOCATION:2241 Chamberlin Hall
SUMMARY:(none)\, Undergraduate Resume Writing/Career Planning Workshop
 \, Greg Iaccarino
DESCRIPTION:
URL:https://www.physics.wisc.edu/events/?id=1057
END:VEVENT
END:VCALENDAR
