BEGIN:VCALENDAR
VERSION:2.0
CALSCALE:GREGORIAN
PRODID:UW-Madison-Physics-Events
BEGIN:VEVENT
SEQUENCE:0
UID:UW-Physics-Event-1059
DTSTART:20080306T183000Z
DURATION:PT1H0M0S
DTSTAMP:20260423T041121Z
LAST-MODIFIED:19700101T060000Z
LOCATION:5310 Chamberlin Hall
SUMMARY:Women in Physics: Data and Strategies\, Physics Teaching Forum
 \, Various Speakers
DESCRIPTION:
URL:https://www.physics.wisc.edu/events/?id=1059
END:VEVENT
END:VCALENDAR
