BEGIN:VCALENDAR
VERSION:2.0
CALSCALE:GREGORIAN
PRODID:UW-Madison-Physics-Events
BEGIN:VEVENT
SEQUENCE:0
UID:UW-Physics-Event-1060
DTSTART:20080306T220000Z
DURATION:PT1H0M0S
DTSTAMP:20260423T041121Z
LAST-MODIFIED:20080304T213938Z
LOCATION:4274 Chamberlin Hall
SUMMARY:The Heterotic Road to the MSSM\, NPAC (Nuclear/Particle/Astro/
 Cosmo) Forum\, Stuart Raby\, Ohio
DESCRIPTION: String theory has been around for over 30 years. The stri
 ng vacuum determines the spectrum of states and gauge interactions of 
 the low energy theory. Some talk about on the order of 10^{300} vacua 
 for string theory\, BUT to date there are only a handfull of candidate
  vacua which look anything like our observed low energy world. In this
  talk I will discuss a new strategy for finding the minimal supersymme
 tric standard model in the immense string landscape. 
URL:https://www.physics.wisc.edu/events/?id=1060
END:VEVENT
END:VCALENDAR
