BEGIN:VCALENDAR
VERSION:2.0
CALSCALE:GREGORIAN
PRODID:UW-Madison-Physics-Events
BEGIN:VEVENT
SEQUENCE:0
UID:UW-Physics-Event-1062
DTSTART:20080310T170500Z
DURATION:PT1H0M0S
DTSTAMP:20260423T041233Z
LAST-MODIFIED:19700101T060000Z
LOCATION:2241 Chamberlin Hall
SUMMARY:Field Error Effects on Tokamak Plasmas\, Plasma Physics (Physi
 cs/ECE/NE 922) Seminar\, Andrew Cole\, UW-Madison\, Department of Engi
 neering Physics
DESCRIPTION:
URL:https://www.physics.wisc.edu/events/?id=1062
END:VEVENT
END:VCALENDAR
