BEGIN:VCALENDAR
VERSION:2.0
CALSCALE:GREGORIAN
PRODID:UW-Madison-Physics-Events
BEGIN:VEVENT
SEQUENCE:0
UID:UW-Physics-Event-1063
DTSTART:20080310T210000Z
DURATION:PT1H0M0S
DTSTAMP:20260423T040956Z
LAST-MODIFIED:19700101T060000Z
LOCATION:4274 Chamberlin  (coffee & cookies at 3:30 pm)
SUMMARY:New Physics Search in Tau Decays\, High Energy Seminar\, Sanja
 y Swain\, Stanford Linear Accelerator Center
DESCRIPTION:
URL:https://www.physics.wisc.edu/events/?id=1063
END:VEVENT
END:VCALENDAR
