BEGIN:VCALENDAR
VERSION:2.0
CALSCALE:GREGORIAN
PRODID:UW-Madison-Physics-Events
BEGIN:VEVENT
SEQUENCE:0
UID:UW-Physics-Event-1064
DTSTART:20080310T210000Z
DURATION:PT1H0M0S
DTSTAMP:20260423T041042Z
LAST-MODIFIED:20080304T184145Z
LOCATION:1345 Health Science Learning Center (refreshments will be ser
 ved)
SUMMARY:TBD\, Medical Physics Seminar\, Sheridan Griffin-Meltsner\, As
 sistant Professor of Medical Physics and Radiology\, UW-School of Medi
 cine and Public Health
DESCRIPTION:
URL:https://www.physics.wisc.edu/events/?id=1064
END:VEVENT
END:VCALENDAR
