BEGIN:VCALENDAR
VERSION:2.0
CALSCALE:GREGORIAN
PRODID:UW-Madison-Physics-Events
BEGIN:VEVENT
SEQUENCE:0
UID:UW-Physics-Event-1069
DTSTART:20080324T170500Z
DURATION:PT1H0M0S
DTSTAMP:20260423T040911Z
LAST-MODIFIED:20080304T221202Z
LOCATION:2241 Chamberlin Hall
SUMMARY:LiWall Fusion (LiWF) and its Three Step Program Toward a React
 or Development Facility\, Plasma Physics (Physics/ECE/NE 922) Seminar\
 , Leonid Zakharov\, Princeton Plasma Physics Laboratory\, Princeton Un
 iversity
DESCRIPTION:
URL:https://www.physics.wisc.edu/events/?id=1069
END:VEVENT
END:VCALENDAR
