BEGIN:VCALENDAR
VERSION:2.0
CALSCALE:GREGORIAN
PRODID:UW-Madison-Physics-Events
BEGIN:VEVENT
SEQUENCE:0
UID:UW-Physics-Event-1070
DTSTART:20080324T210000Z
DURATION:PT1H0M0S
DTSTAMP:20260423T041122Z
LAST-MODIFIED:19700101T060000Z
LOCATION:1345 Health Science Learning Center (refreshments will be ser
 ved)
SUMMARY:TBA\, Medical Physics Seminar\, Shuai Leng\, student of Dr. Gu
 ang-Hong Chen\, Assistant Professor of Medical Physics and Radiology\,
  UW-School of Medicine and Public Health
DESCRIPTION:
URL:https://www.physics.wisc.edu/events/?id=1070
END:VEVENT
END:VCALENDAR
