BEGIN:VCALENDAR
VERSION:2.0
CALSCALE:GREGORIAN
PRODID:UW-Madison-Physics-Events
BEGIN:VEVENT
SEQUENCE:0
UID:UW-Physics-Event-1074
DTSTART:20080327T150000Z
DURATION:PT1H0M0S
DTSTAMP:20260423T041042Z
LAST-MODIFIED:19700101T060000Z
LOCATION:5310 Chamberlin Hall
SUMMARY:TBA\, R. G. Herb Condensed Matter Seminar\, Wolfram Brenig\, T
 echnishce Universitat Branuschweig
DESCRIPTION:
URL:https://www.physics.wisc.edu/events/?id=1074
END:VEVENT
END:VCALENDAR
