BEGIN:VCALENDAR
VERSION:2.0
CALSCALE:GREGORIAN
PRODID:UW-Madison-Physics-Events
BEGIN:VEVENT
SEQUENCE:0
UID:UW-Physics-Event-1077
DTSTART:20080331T170500Z
DURATION:PT1H0M0S
DTSTAMP:20260423T041042Z
LAST-MODIFIED:20080321T164239Z
LOCATION:2241 Chamberlin Hall
SUMMARY:What about Fusion Reactors?\, Plasma Physics (Physics/ECE/NE 9
 22) Seminar\, John Sheffield\, Retired\, Oak Ridge National Laboratory
DESCRIPTION:
URL:https://www.physics.wisc.edu/events/?id=1077
END:VEVENT
END:VCALENDAR
