BEGIN:VCALENDAR
VERSION:2.0
CALSCALE:GREGORIAN
PRODID:UW-Madison-Physics-Events
BEGIN:VEVENT
SEQUENCE:0
UID:UW-Physics-Event-1078
DTSTART:20080331T210000Z
DURATION:PT1H0M0S
DTSTAMP:20260423T041119Z
LAST-MODIFIED:19700101T060000Z
LOCATION:4274 Chamberlin  (coffee & cookies at 3:30 pm)
SUMMARY:Charmed Meson Mixing\, High Energy Seminar\, Michael Sokoloff\
 , University of Cincinnati
DESCRIPTION:
URL:https://www.physics.wisc.edu/events/?id=1078
END:VEVENT
END:VCALENDAR
