BEGIN:VCALENDAR
VERSION:2.0
CALSCALE:GREGORIAN
PRODID:UW-Madison-Physics-Events
BEGIN:VEVENT
SEQUENCE:0
UID:UW-Physics-Event-1080
DTSTART:20080401T170500Z
DURATION:PT1H0M0S
DTSTAMP:20260423T041119Z
LAST-MODIFIED:19700101T060000Z
LOCATION:4274 Chamberlin Hall
SUMMARY:TBA\, Chaos & Complex Systems Seminar\, Gabriela Cezar\, Anima
 l Science
DESCRIPTION:
URL:https://www.physics.wisc.edu/events/?id=1080
END:VEVENT
END:VCALENDAR
