BEGIN:VCALENDAR
VERSION:2.0
CALSCALE:GREGORIAN
PRODID:UW-Madison-Physics-Events
BEGIN:VEVENT
SEQUENCE:0
UID:UW-Physics-Event-1084
DTSTART:20080407T170500Z
DURATION:PT1H0M0S
DTSTAMP:20260423T041114Z
LAST-MODIFIED:20080402T135952Z
LOCATION:2241 Chamberlin Hall
SUMMARY:Recent Experimental Results from the Helicity Injected Torus w
 ith Steady Inductive Helicity Injection (HIT-SI)\, Plasma Physics (Phy
 sics/ECE/NE 922) Seminar\, Aaron Redd\, University of Wisconsin\, Dept
 . of Engineering Physics
DESCRIPTION:
URL:https://www.physics.wisc.edu/events/?id=1084
END:VEVENT
END:VCALENDAR
