BEGIN:VCALENDAR
VERSION:2.0
CALSCALE:GREGORIAN
PRODID:UW-Madison-Physics-Events
BEGIN:VEVENT
SEQUENCE:0
UID:UW-Physics-Event-1086
DTSTART:20080407T170500Z
DURATION:PT1H0M0S
DTSTAMP:20260423T041116Z
LAST-MODIFIED:19700101T060000Z
LOCATION:4274 Chamberlin Hall
SUMMARY:TBA\, Chaos & Complex Systems Seminar\, Sean Cornelius\, Physi
 cs
DESCRIPTION:
URL:https://www.physics.wisc.edu/events/?id=1086
END:VEVENT
END:VCALENDAR
