BEGIN:VCALENDAR
VERSION:2.0
CALSCALE:GREGORIAN
PRODID:UW-Madison-Physics-Events
BEGIN:VEVENT
SEQUENCE:0
UID:UW-Physics-Event-1088
DTSTART:20080407T204500Z
DURATION:PT1H0M0S
DTSTAMP:20260423T041234Z
LAST-MODIFIED:19700101T060000Z
LOCATION:6515 Sterling Hall (coffee at 3:30 pm)
SUMMARY:TBA\, Astronomy Colloquium\, Roger Chevalier\, University of V
 irginia
DESCRIPTION:
URL:https://www.physics.wisc.edu/events/?id=1088
END:VEVENT
END:VCALENDAR
