BEGIN:VCALENDAR
VERSION:2.0
CALSCALE:GREGORIAN
PRODID:UW-Madison-Physics-Events
BEGIN:VEVENT
SEQUENCE:0
UID:UW-Physics-Event-1091
DTSTART:20080414T170500Z
DURATION:PT1H0M0S
DTSTAMP:20260423T040956Z
LAST-MODIFIED:19700101T060000Z
LOCATION:2241 Chamberlin Hall
SUMMARY:D retentions in a Tokamak with High-Z Plasma Facing Components
 --Implications for ITER and Reactors\, Plasma Physics (Physics/ECE/NE 
 922) Seminar\, Bruce Lipschultz\, Massachusetts Institute of Technolog
 y
DESCRIPTION:
URL:https://www.physics.wisc.edu/events/?id=1091
END:VEVENT
END:VCALENDAR
