BEGIN:VCALENDAR
VERSION:2.0
CALSCALE:GREGORIAN
PRODID:UW-Madison-Physics-Events
BEGIN:VEVENT
SEQUENCE:0
UID:UW-Physics-Event-1092
DTSTART:20080414T210000Z
DURATION:PT1H0M0S
DTSTAMP:20260423T041115Z
LAST-MODIFIED:19700101T060000Z
LOCATION:1345 Health Science Learning Center (refreshments will be ser
 ved)
SUMMARY:TBA\, Medical Physics Seminar\, A. Sam Bedder\, Ph.D. Associat
 e Professor\, Department of Radiation Physics\, The University of Texa
 s M.D. Anderson Cancer Center\, Houston\, Texas
DESCRIPTION:
URL:https://www.physics.wisc.edu/events/?id=1092
END:VEVENT
END:VCALENDAR
