BEGIN:VCALENDAR
VERSION:2.0
CALSCALE:GREGORIAN
PRODID:UW-Madison-Physics-Events
BEGIN:VEVENT
SEQUENCE:0
UID:UW-Physics-Event-1099
DTSTART:20080418T193000Z
DURATION:PT1H0M0S
DTSTAMP:20260423T041045Z
LAST-MODIFIED:19700101T060000Z
LOCATION:5280 Chamberlin Hall
SUMMARY:TBA\, Phenomenology Seminar\, Antonio Delgado\, Univ. of Notre
  Dame
DESCRIPTION:
URL:https://www.physics.wisc.edu/events/?id=1099
END:VEVENT
END:VCALENDAR
