BEGIN:VCALENDAR
VERSION:2.0
CALSCALE:GREGORIAN
PRODID:UW-Madison-Physics-Events
BEGIN:VEVENT
SEQUENCE:0
UID:UW-Physics-Event-1101
DTSTART:20080421T210000Z
DURATION:PT1H0M0S
DTSTAMP:20260423T041043Z
LAST-MODIFIED:19700101T060000Z
LOCATION:1345 Health Science Learning Center (refreshments will be ser
 ved)
SUMMARY:TBA\, Medical Physics Seminar\, Brian Nett\, Resarch Assistant
 \, student of Dr. Guang-Hong Chen\, Department of Medical Physics\, UW
 -School of Medicine and Public Health
DESCRIPTION:
URL:https://www.physics.wisc.edu/events/?id=1101
END:VEVENT
END:VCALENDAR
