BEGIN:VCALENDAR
VERSION:2.0
CALSCALE:GREGORIAN
PRODID:UW-Madison-Physics-Events
BEGIN:VEVENT
SEQUENCE:0
UID:UW-Physics-Event-1104
DTSTART:20080421T204500Z
DURATION:PT1H0M0S
DTSTAMP:20260423T040958Z
LAST-MODIFIED:19700101T060000Z
LOCATION:6515 Sterling Hall (coffee at 3:30 pm in 6521 Sterling)
SUMMARY:Outflows from massive (proto) stars and evidence for an 'impro
 ved' evolutionary sequence\, Astronomy Colloquium\, Debra Shepherd\, N
 RAO
DESCRIPTION:
URL:https://www.physics.wisc.edu/events/?id=1104
END:VEVENT
END:VCALENDAR
