BEGIN:VCALENDAR
VERSION:2.0
CALSCALE:GREGORIAN
PRODID:UW-Madison-Physics-Events
BEGIN:VEVENT
SEQUENCE:0
UID:UW-Physics-Event-1106
DTSTART:20080428T170500Z
DURATION:PT1H0M0S
DTSTAMP:20260423T023629Z
LAST-MODIFIED:20080418T220259Z
LOCATION:2241 Chamberlin Hall
SUMMARY:Toward the Ultimate Goal of Radwaste-Free Fusion:  Recycling a
 nd Clearance\, Avoiding Geological Disposal\, Plasma Physics (Physics/
 ECE/NE 922) Seminar\, Laila A. El-Guebaly\, UW-Madison\, Fusion Techno
 logy Institute
DESCRIPTION:
URL:https://www.physics.wisc.edu/events/?id=1106
END:VEVENT
END:VCALENDAR
