BEGIN:VCALENDAR
VERSION:2.0
CALSCALE:GREGORIAN
PRODID:UW-Madison-Physics-Events
BEGIN:VEVENT
SEQUENCE:0
UID:UW-Physics-Event-1107
DTSTART:20080428T210000Z
DURATION:PT1H0M0S
DTSTAMP:20260423T023629Z
LAST-MODIFIED:19700101T060000Z
LOCATION:1345 Health Science Learning Center (refreshments will be ser
 ved)
SUMMARY:A Comparison of Computational Methods to Calculate Effective C
 onnectivity from fMRI Time Series Data\, Medical Physics Seminar\, Suz
 anne Witt\, Research Assistant\, student of Dr. M. Elizabeth Meyerand\
 , Department of Medical Physics\, UW-School of Medicine and Public Hea
 lth
DESCRIPTION:
URL:https://www.physics.wisc.edu/events/?id=1107
END:VEVENT
END:VCALENDAR
