BEGIN:VCALENDAR
VERSION:2.0
CALSCALE:GREGORIAN
PRODID:UW-Madison-Physics-Events
BEGIN:VEVENT
SEQUENCE:0
UID:UW-Physics-Event-1110
DTSTART:20080428T204500Z
DURATION:PT1H0M0S
DTSTAMP:20260423T023747Z
LAST-MODIFIED:19700101T060000Z
LOCATION:6515 Sterling Hall (coffee at 3:30 pm)
SUMMARY:TBA\, Astronomy Colloquium\, Michelle J. Creech-Eakman\, New M
 exico Tech - Department of Physics\, Socorro
DESCRIPTION:
URL:https://www.physics.wisc.edu/events/?id=1110
END:VEVENT
END:VCALENDAR
