BEGIN:VCALENDAR
VERSION:2.0
CALSCALE:GREGORIAN
PRODID:UW-Madison-Physics-Events
BEGIN:VEVENT
SEQUENCE:0
UID:UW-Physics-Event-1111
DTSTART:20080501T210000Z
DURATION:PT1H0M0S
DTSTAMP:20260423T023630Z
LAST-MODIFIED:20080426T192011Z
LOCATION:4274 Chamberlin Hall
SUMMARY:Effective Field Theory of Light Nuclei\, NPAC (Nuclear/Particl
 e/Astro/Cosmo) Forum\, Bira van Kolck\, University of Arizona
DESCRIPTION:Nucleons in light nuclei have binding momenta smaller than
  the pion mass. In this energy regime\, strong interactions can be des
 cribed by effective field theories (EFTs) where all nuclear interactio
 ns are of contact type. I will discuss some of the features of these E
 FTs such as unusual renormalization leading to limit cycles\, universa
 l behavior in three-body systems\, and a surprising amount of fine-tun
 ing.
URL:https://www.physics.wisc.edu/events/?id=1111
END:VEVENT
END:VCALENDAR
