BEGIN:VCALENDAR
VERSION:2.0
CALSCALE:GREGORIAN
PRODID:UW-Madison-Physics-Events
BEGIN:VEVENT
SEQUENCE:0
UID:UW-Physics-Event-1113
DTSTART:20080505T170500Z
DURATION:PT1H0M0S
DTSTAMP:20260423T023723Z
LAST-MODIFIED:20080429T145118Z
LOCATION:2241 Chamberlin Hall
SUMMARY:Magnetic Reconnection\, a Celestial Phenomenon in the Laborato
 ry\, Plasma Physics (Physics/ECE/NE 922) Seminar\, Jan Egedal\, Massac
 husetts Institute of Technology
DESCRIPTION:
URL:https://www.physics.wisc.edu/events/?id=1113
END:VEVENT
END:VCALENDAR
