BEGIN:VCALENDAR
VERSION:2.0
CALSCALE:GREGORIAN
PRODID:UW-Madison-Physics-Events
BEGIN:VEVENT
SEQUENCE:0
UID:UW-Physics-Event-1121
DTSTART:20080516T193000Z
DURATION:PT1H0M0S
DTSTAMP:20260423T023626Z
LAST-MODIFIED:19700101T060000Z
LOCATION:5280 Chamberlin Hall
SUMMARY:TBA\, NPAC (Nuclear/Particle/Astro/Cosmo) Forum\, Christian Ba
 uer\, LBNL & UC-Berkeley
DESCRIPTION:
URL:https://www.physics.wisc.edu/events/?id=1121
END:VEVENT
END:VCALENDAR
