BEGIN:VCALENDAR
VERSION:2.0
CALSCALE:GREGORIAN
PRODID:UW-Madison-Physics-Events
BEGIN:VEVENT
SEQUENCE:0
UID:UW-Physics-Event-1132
DTSTART:20080414T210000Z
DURATION:PT1H0M0S
DTSTAMP:20260423T041115Z
LAST-MODIFIED:20080408T230534Z
LOCATION:4274 Chamberlin (Coffee and Cookies at 3:30 pm)
SUMMARY:Single Top at CDF\, High Energy Seminar\, Kevin Lannon\, The O
 hio State University
DESCRIPTION:
URL:https://www.physics.wisc.edu/events/?id=1132
END:VEVENT
END:VCALENDAR
