BEGIN:VCALENDAR
VERSION:2.0
CALSCALE:GREGORIAN
PRODID:UW-Madison-Physics-Events
BEGIN:VEVENT
SEQUENCE:0
UID:UW-Physics-Event-1144
DTSTART:20080401T063000Z
DURATION:PT1H0M0S
DTSTAMP:20260423T041044Z
LAST-MODIFIED:20080331T185621Z
LOCATION:4274 Chamberlin Hall
SUMMARY:Experimental Investigation of Turbulence at the Transition fro
 m Closed to Open Field Lines\, Special Plasma Seminar\, Ulrich Stroth\
 , Universitat Stuttgart\, Germany
DESCRIPTION:
URL:https://www.physics.wisc.edu/events/?id=1144
END:VEVENT
END:VCALENDAR
