BEGIN:VCALENDAR
VERSION:2.0
CALSCALE:GREGORIAN
PRODID:UW-Madison-Physics-Events
BEGIN:VEVENT
SEQUENCE:0
UID:UW-Physics-Event-1145
DTSTART:20080326T210000Z
DURATION:PT1H0M0S
DTSTAMP:20260423T041045Z
LAST-MODIFIED:20080331T180229Z
LOCATION:4274 Chamberlin Hall
SUMMARY:If the WIMP will not come to the neutron star\; the neutron st
 ar will go to the WIMP\, Informal Seminar\, Hakki B. Ogelman\, UW-Madi
 son
DESCRIPTION:
URL:https://www.physics.wisc.edu/events/?id=1145
END:VEVENT
END:VCALENDAR
