BEGIN:VCALENDAR
VERSION:2.0
CALSCALE:GREGORIAN
PRODID:UW-Madison-Physics-Events
BEGIN:VEVENT
SEQUENCE:0
UID:UW-Physics-Event-1153
DTSTART:20080424T150000Z
DURATION:PT1H0M0S
DTSTAMP:20260423T010434Z
LAST-MODIFIED:20080411T170420Z
LOCATION:5310 Chamberlin
SUMMARY:Rare events and phase transitions in reaction-diffusion system
 s\, R. G. Herb Condensed Matter Seminar\, Alex Kamenev\, University of
  Minnesota
DESCRIPTION:I shall discuss a way to evaluate tails of the probability
  distribution functions in stochastic reaction-diffusion systems. The 
 method is based on the semi-classical treatment of a proper ''quantum'
 ' field theory\, which may be associated with the reaction-diffusion m
 odels. The same set of ideas may be applied to a classification of non
 -equilibrium phase transitions\, taking place in these models.
URL:https://www.physics.wisc.edu/events/?id=1153
END:VEVENT
END:VCALENDAR
