BEGIN:VCALENDAR
VERSION:2.0
CALSCALE:GREGORIAN
PRODID:UW-Madison-Physics-Events
BEGIN:VEVENT
SEQUENCE:0
UID:UW-Physics-Event-1157
DTSTART:20080428T210000Z
DTEND:20080428T100000Z
DTSTAMP:20260423T023723Z
LAST-MODIFIED:20080402T171548Z
LOCATION:4274 Chamberlin (coffee & cookies at 3:30 pm)
SUMMARY:Neutrino-less double-beta decay\, WIMPs\, and Xenon: Will the 
 Quest Converge?\, High Energy Seminar\, David Nygren\, LBNL and Stockh
 olm University
DESCRIPTION:
URL:https://www.physics.wisc.edu/events/?id=1157
END:VEVENT
END:VCALENDAR
