BEGIN:VCALENDAR
VERSION:2.0
CALSCALE:GREGORIAN
PRODID:UW-Madison-Physics-Events
BEGIN:VEVENT
SEQUENCE:0
UID:UW-Physics-Event-1169
DTSTART:20080422T210000Z
DURATION:PT1H0M0S
DTSTAMP:20260423T041230Z
LAST-MODIFIED:20080409T221531Z
LOCATION:5310 Chamberlin
SUMMARY:Mathematica 6 in Education and Research\, Educational Technolo
 gy in Physics Seminar\, Josh Lietz\, Wolfram Research\, Inc.
DESCRIPTION:A wide variety of practical and theoretical applications o
 f Mathematica 6 in education and research will be discussed. Attendees
  will not only see the new features of Version 6\, but will also recei
 ve examples of this functionality to begin using immediately. No Mathe
 matica experience is required\, and students are encouraged to attend.
URL:https://www.physics.wisc.edu/events/?id=1169
END:VEVENT
END:VCALENDAR
