BEGIN:VCALENDAR
VERSION:2.0
CALSCALE:GREGORIAN
PRODID:UW-Madison-Physics-Events
BEGIN:VEVENT
SEQUENCE:0
UID:UW-Physics-Event-1170
DTSTART:20080417T194500Z
DTEND:20080417T204500Z
DTSTAMP:20260423T041231Z
LAST-MODIFIED:20080415T211902Z
LOCATION:5310 Chamberlin
SUMMARY:Polarized Antiprotons\, Special Joint Nuclear Physics and High
  Energy Physics Seminar\, Hans-Otto Meyer\, Indiana University
DESCRIPTION:Particle physics has made remarkable advances when stored\
 , cooled beams of antiprotons became available. Soon after\, scientist
 s called for polarized antiprotons in order to explore the spin degree
 s of freedom in antiproton-induced reactions. In the past 20 years\, m
 any clever ideas on how to satisfy this request have been produced\, h
 owever\, only recently has there been experimental activity in this fi
 eld. I will review some of the history\, what is going on at present\,
  and where this might possibly lead.
URL:https://www.physics.wisc.edu/events/?id=1170
END:VEVENT
END:VCALENDAR
