BEGIN:VCALENDAR
VERSION:2.0
CALSCALE:GREGORIAN
PRODID:UW-Madison-Physics-Events
BEGIN:VEVENT
SEQUENCE:0
UID:UW-Physics-Event-1181
DTSTART:20080425T160000Z
DURATION:PT1H0M0S
DTSTAMP:20260423T041231Z
LAST-MODIFIED:20080424T132616Z
LOCATION:5280 Chamberlin Hall
SUMMARY:NuMI Muon Monitor Studies and First Results from the MINOS Ste
 rile Neutrino Search\, High Energy Seminar\, Jason Koskinen\, Universi
 ty College\, London
DESCRIPTION:
URL:https://www.physics.wisc.edu/events/?id=1181
END:VEVENT
END:VCALENDAR
