BEGIN:VCALENDAR
VERSION:2.0
CALSCALE:GREGORIAN
PRODID:UW-Madison-Physics-Events
BEGIN:VEVENT
SEQUENCE:0
UID:UW-Physics-Event-1182
DTSTART:20080507T203000Z
DTEND:20080507T093000Z
DTSTAMP:20260423T023725Z
LAST-MODIFIED:20080506T154633Z
LOCATION:4274 Chamberlin
SUMMARY:Dirac Leptogenesis in Extended nMSSM\, NPAC (Nuclear/Particle/
 Astro/Cosmo) Forum\, Eung Jin Chun\, KIAS
DESCRIPTION:We show that a version of the nearly Minimal Supersymmetri
 c Standard Model (nMSSM)\, extended only in the singlet sector to incl
 ude the additional superfields of right-handed neutrinos and very heav
 y Dirac particles conserving B-L\, admits a viable scenario for Dirac 
 leptogenesis and naturally small Dirac neutrino masses. The origin of 
 the (B-L)-conserving high singlet neutrino scale and the desired super
 symmetry breaking terms is associated with dynamical supersymmetry bre
 aking in the hidden sector.
URL:https://www.physics.wisc.edu/events/?id=1182
END:VEVENT
END:VCALENDAR
